BEGIN:VCALENDAR
VERSION:2.0
PRODID:icalendar-ruby
CALSCALE:GREGORIAN
BEGIN:VEVENT
DTSTAMP:20260409T142426Z
UID:event-occurrence-bb304e3c-4330-43bc-8808-d418247ba72c-event-2874f56c-b6
 e0-4e09-8e3e-5d41a7b93b47@termine-e
DTSTART:20260510T110000
DTEND:20260510T000000
CLASS:PUBLIC
DESCRIPTION:gemeinsamer Gottesdienst zur Eröffnung des Spargelmarktes mit 
 dem Gospelchor in der Kreissparkasse Rethemmit Pastor Philipp Wollek
LOCATION:
SUMMARY:Spargelmarkt in Rethem
END:VEVENT
END:VCALENDAR
