BEGIN:VCALENDAR
VERSION:2.0
PRODID:icalendar-ruby
CALSCALE:GREGORIAN
BEGIN:VEVENT
DTSTAMP:20260423T155642Z
UID:event-occurrence-0adaa8b5-60da-476c-a198-4f2fd0b0770e-event-283ce94e-b5
 32-479e-9955-68b651780afc@termine-e
DTSTART:20260503T100000
DTEND:20260503T000000
CLASS:PUBLIC
DESCRIPTION:Am Sonntag Kantate feiern wir Konfirmation mit Pastor Heyden.
LOCATION:St. Michaelis-Kirche\, Bienenbüttel
SUMMARY:Konfirmation in Bienenbüttel
END:VEVENT
END:VCALENDAR
