BEGIN:VCALENDAR
VERSION:2.0
PRODID:icalendar-ruby
CALSCALE:GREGORIAN
BEGIN:VEVENT
DTSTAMP:20260412T192144Z
UID:event-occurrence-18b6924e-b41f-453e-82e6-57c9f997408b-event-2820936d-94
 8c-4e20-aa67-ca77c95edbd7@termine-e
DTSTART:20260628T090000
DTEND:20260628T000000
CLASS:PUBLIC
DESCRIPTION:Pn. WeidnerMusik: Blasorchester
LOCATION:Schützenfest Holzhausen\, Auf der Schanze\, 31812\, Bad Pyrmont
SUMMARY:Gottesdienst I Sommerkirche
END:VEVENT
END:VCALENDAR
