BEGIN:VCALENDAR
VERSION:2.0
PRODID:icalendar-ruby
CALSCALE:GREGORIAN
BEGIN:VEVENT
DTSTAMP:20260420T144604Z
UID:event-occurrence-22e97545-6eeb-4aa4-95e3-ce2e363720df-event-280568cd-d6
 2f-45c7-8953-54754bb136c6@termine-e
DTSTART:20260510T000000
DTEND:20260510T000000
CLASS:PUBLIC
LOCATION:
SUMMARY:Kirche Kunterbunt - Familiengottesdienst
END:VEVENT
END:VCALENDAR
