BEGIN:VCALENDAR
VERSION:2.0
PRODID:icalendar-ruby
CALSCALE:GREGORIAN
BEGIN:VEVENT
DTSTAMP:20260325T172318Z
UID:event-occurrence-882693cf-cbfb-4260-bbd3-df19f9450a39-event-261a9a50-20
 3f-4eb6-8559-ac67f0e797f2@termine-e
DTSTART:20261111T093000
DTEND:20261111T113000
CLASS:PUBLIC
DESCRIPTION:Kommen Sie vorbei und lassen Sie sich ein Frühstücksbuffet vo
 m Feinsten schmecken! Ein Team von Ehrenamtlichen unter der Leitung von Fr
 au Schoke sorgt für ein einmaliges Ambiente im historischen Kantorhaus - 
 direkt neben der Kirche! Auch für einen geistlichen Rahmen und gute Unter
 haltung ist gesorgt...
LOCATION:Kantorhaus\, Am Thie 2\, 37619\, Hehlen
SUMMARY:DAS SENIORENFRÜHSTÜCK IN HEHLEN
END:VEVENT
END:VCALENDAR
