BEGIN:VCALENDAR
VERSION:2.0
PRODID:icalendar-ruby
CALSCALE:GREGORIAN
BEGIN:VEVENT
DTSTAMP:20260314T144542Z
UID:event-occurrence-aa54e2e7-28f6-46d1-89e4-0ff96723916a-event-260c8a23-d4
 e7-4207-a429-456dd384bd15@termine-e
DTSTART:20270411T100000
DTEND:20270411T110000
CLASS:PUBLIC
DESCRIPTION:In diesem festlichen Gottesdienst werden die Konfirmandinnen un
 d Konfirmanden eingesegnet. Sie bestätigen ihren Glauben und erhalten den
  Segen für ihren weiteren Lebensweg. Gemeinsam mit Familien\, Patinnen un
 d Paten sowie der Gemeinde wird dieser besondere Moment gefeiert.Nur für 
 die Konfirmandinnen und Konfirmanden\, die am ersten Termin konfirmiert we
 rden.Hinweis:Die angegebenen Uhrzeiten dienen zur Orientierung und können
  sich im Einzelfall noch ändern.Der genaue Treffpunkt sowie weitere or...
LOCATION:ev.-luth. Kirche St. Marien\, Kirchstraße 6\, 29339\, Wathlingen
SUMMARY:KUEXTRA: Konfirmation I
END:VEVENT
END:VCALENDAR
