BEGIN:VCALENDAR
VERSION:2.0
PRODID:icalendar-ruby
CALSCALE:GREGORIAN
BEGIN:VEVENT
DTSTAMP:20260413T064805Z
UID:event-occurrence-dcb73725-3117-4569-9f12-8869cf9888f8-event-25a8ea3f-2f
 20-4e5b-b324-1668b86579a4@termine-e
DTSTART:20260614T103000
DTEND:20260614T000000
CLASS:PUBLIC
DESCRIPTION:Pn. WeidnerMusik: Popkantor Knichalla
LOCATION:Christuskirche\, An der Stadtkirche 5\, 31812\, Bad Pyrmont
SUMMARY:Gottesdienst zur Begrüßung der neuen Konfirmanden
END:VEVENT
END:VCALENDAR
