BEGIN:VCALENDAR
VERSION:2.0
PRODID:icalendar-ruby
CALSCALE:GREGORIAN
BEGIN:VEVENT
DTSTAMP:20260328T101144Z
UID:event-occurrence-0da4d790-37c1-467d-be95-7a260d9a1c22-event-250f98a7-1b
 5e-494d-a8e6-005eabe404ea@termine-e
DTSTART:20260524T103000
DTEND:20260524T000000
CLASS:PUBLIC
LOCATION:Herrenhäuser Kirche\, Hegebläch 19\, 30419\, Hannover
SUMMARY:Gottesdienst
END:VEVENT
END:VCALENDAR
