BEGIN:VCALENDAR
VERSION:2.0
PRODID:icalendar-ruby
CALSCALE:GREGORIAN
BEGIN:VEVENT
DTSTAMP:20260323T105421Z
UID:event-occurrence-4538bbc4-b5cb-4e06-89b2-cfd65411f503-event-2469c9e1-2a
 8c-47a9-8e67-8202e464be6d@termine-e
DTSTART:20260530T193000
DTEND:20260530T000000
CLASS:PUBLIC
DESCRIPTION:Bockester Hannover | Fanny Soyer\, Sopran | Anna-Doris Capitell
 i\, Alt | Quilisma Kinder- und Jugendchor Springe | Projektchor Hannover |
  Ltg. Tammo AzamIm Mittelpunkt des nächsten großen Konzertprogramms des 
 Bockester Hannover vom 28. bis 31. Mai 2026 steht Gustav Mahlers 2. Sympho
 nie\, ergänzt durch zwei Motetten von Rudolf Mauersberger.Rudolf Mauersbe
 rgers Trauermotette „Wie liegt die Stadt so wüst“ für gemischten Cho
 r a cappella entstand 1945 unter dem unmittelbaren Eindruck der Zerstörun
 g D...
LOCATION:Marktkirche Hannover\, Hanns-Lilje-Platz 2\, 30159\, Hannover
SUMMARY:Gustav Mahler: 2. Sinfonie
END:VEVENT
END:VCALENDAR
