BEGIN:VCALENDAR
VERSION:2.0
PRODID:icalendar-ruby
CALSCALE:GREGORIAN
BEGIN:VEVENT
DTSTAMP:20260417T091725Z
UID:event-occurrence-8381d32b-25a6-48e0-97cc-a814ea5e4020-event-24186362-14
 9b-40df-b800-c46604a93c25@termine-e
DTSTART:20260509T100000
DTEND:20260509T000000
CLASS:PUBLIC
DESCRIPTION:vor dem Dorfgemeinschaftshaus mit dem Posaunenchor und Pastor A
 ndreas Ströble
LOCATION:DGH Ihme-Roloven\, Hannoversche Straße 30\, 30952\, Ronnenberg (O
 T Ihme-Roloven
SUMMARY:Gottesdienst zum Jubiläum des Fachwerkscheunenvereins
END:VEVENT
END:VCALENDAR
