BEGIN:VCALENDAR
VERSION:2.0
PRODID:icalendar-ruby
CALSCALE:GREGORIAN
BEGIN:VEVENT
DTSTAMP:20260422T062918Z
UID:event-occurrence-c29d9957-4325-401a-b8dc-fac9de0c3583-event-23df6933-ee
 10-4894-83e6-36dbdb53da75@termine-e
DTSTART:20260426T100000
DTEND:20260426T000000
CLASS:PUBLIC
DESCRIPTION:Gottesdienst mit Pastor Nolting-Bösemannanschl. Kirchencafé
LOCATION:St.-Marien-Kirche Loxstedt\, Kirchenstr. 1\, 27612\, Loxstedt
SUMMARY:Gottesdienst in Loxstedt
END:VEVENT
END:VCALENDAR
