BEGIN:VCALENDAR
VERSION:2.0
PRODID:icalendar-ruby
CALSCALE:GREGORIAN
BEGIN:VEVENT
DTSTAMP:20260302T191726Z
UID:event-occurrence-3a0196f2-111b-4ebb-8651-8d2a65f6172b-event-237578ff-56
 4a-4ef3-9c75-06922f1d1b59@termine-e
DTSTART:20260711T090000
DTEND:20260711T000000
CLASS:PUBLIC
LOCATION:Christuskirche\, An der Stadtkirche 5\, 31812\, Bad Pyrmont
SUMMARY:Tagespilgern
END:VEVENT
END:VCALENDAR
