BEGIN:VCALENDAR
VERSION:2.0
PRODID:icalendar-ruby
CALSCALE:GREGORIAN
BEGIN:VEVENT
DTSTAMP:20260401T091553Z
UID:event-occurrence-ac6c76d2-9532-4033-96e3-0ba09dd9bb4f-event-22f8d4e0-78
 25-4594-bbf9-8e72a2a3e867@termine-e
DTSTART:20260501T180000
DTEND:20260501T000000
CLASS:PUBLIC
DESCRIPTION:mit dem Andachtsteam
LOCATION:St. Severi Otterndorf\, Am Kirchplatz 2\, 21762\, Otterndorf
SUMMARY:Andacht zum Monatsbeginn in Otterndorf
END:VEVENT
END:VCALENDAR
