BEGIN:VCALENDAR
VERSION:2.0
PRODID:icalendar-ruby
CALSCALE:GREGORIAN
BEGIN:VEVENT
DTSTAMP:20260423T100856Z
UID:event-occurrence-de3575ee-053f-448a-a66e-88cb61e6341a-event-22e5cc46-11
 0b-43b5-9939-f8bba0e5b8b9@termine-e
DTSTART:20260506T193000
DTEND:20260506T000000
CLASS:PUBLIC
LOCATION:Ev.-luth. Andreaskirche\, Uhlandstr. 61\, 49134\, Wallenhorst
SUMMARY:Chor
END:VEVENT
BEGIN:VEVENT
DTSTAMP:20260423T100856Z
UID:event-occurrence-cfe2947e-27c3-45d1-8601-5229f745974b-event-22e5cc46-11
 0b-43b5-9939-f8bba0e5b8b9@termine-e
DTSTART:20260513T193000
DTEND:20260513T000000
CLASS:PUBLIC
LOCATION:Ev.-luth. Andreaskirche\, Uhlandstr. 61\, 49134\, Wallenhorst
SUMMARY:Chor
END:VEVENT
BEGIN:VEVENT
DTSTAMP:20260423T100856Z
UID:event-occurrence-71ca8abd-40bd-4f5a-a32f-1a09d679c975-event-22e5cc46-11
 0b-43b5-9939-f8bba0e5b8b9@termine-e
DTSTART:20260520T193000
DTEND:20260520T000000
CLASS:PUBLIC
LOCATION:Ev.-luth. Andreaskirche\, Uhlandstr. 61\, 49134\, Wallenhorst
SUMMARY:Chor
END:VEVENT
BEGIN:VEVENT
DTSTAMP:20260423T100856Z
UID:event-occurrence-9279f787-fae5-4c18-9429-c932869127e3-event-22e5cc46-11
 0b-43b5-9939-f8bba0e5b8b9@termine-e
DTSTART:20260527T193000
DTEND:20260527T000000
CLASS:PUBLIC
LOCATION:Ev.-luth. Andreaskirche\, Uhlandstr. 61\, 49134\, Wallenhorst
SUMMARY:Chor
END:VEVENT
BEGIN:VEVENT
DTSTAMP:20260423T100856Z
UID:event-occurrence-16fb692a-1cd1-47f3-acc9-d3e95c209403-event-22e5cc46-11
 0b-43b5-9939-f8bba0e5b8b9@termine-e
DTSTART:20260603T193000
DTEND:20260603T000000
CLASS:PUBLIC
LOCATION:Ev.-luth. Andreaskirche\, Uhlandstr. 61\, 49134\, Wallenhorst
SUMMARY:Chor
END:VEVENT
BEGIN:VEVENT
DTSTAMP:20260423T100856Z
UID:event-occurrence-5a665b8d-dcd8-499f-bb49-d3ea24d3ec2d-event-22e5cc46-11
 0b-43b5-9939-f8bba0e5b8b9@termine-e
DTSTART:20260610T193000
DTEND:20260610T000000
CLASS:PUBLIC
LOCATION:Ev.-luth. Andreaskirche\, Uhlandstr. 61\, 49134\, Wallenhorst
SUMMARY:Chor
END:VEVENT
END:VCALENDAR
