BEGIN:VCALENDAR
VERSION:2.0
PRODID:icalendar-ruby
CALSCALE:GREGORIAN
BEGIN:VEVENT
DTSTAMP:20260422T211336Z
UID:event-occurrence-63a41bf1-75e8-4f83-939b-56e47d25422f-event-22bedd86-22
 7d-4458-883f-6143848e3ac5@termine-e
DTSTART:20261112T190000
DTEND:20261112T220000
CLASS:PUBLIC
LOCATION:St. Thomas\, Bremer Str. 70\, 49163\, Bohmte
SUMMARY:KV-Sitzung
END:VEVENT
END:VCALENDAR
