BEGIN:VCALENDAR
VERSION:2.0
PRODID:icalendar-ruby
CALSCALE:GREGORIAN
BEGIN:VEVENT
DTSTAMP:20260420T093649Z
UID:event-occurrence-fc95d875-d412-4918-b85c-a8c37cd80b88-event-22ae3902-6b
 58-4c22-a974-1fb1145b5d83@termine-e
DTSTART:20260719T103000
DTEND:20260719T000000
CLASS:PUBLIC
DESCRIPTION:mit Vikarin Schmidt
LOCATION:Paulus-Kirchenzentrum\, Berliner Ring 17\, 31303\, Burgdorf
SUMMARY:Sommerkirche-Gottesdienst und Kirchenkaffee im Paulus-Kirchenzentru
 m Burgdorf
END:VEVENT
END:VCALENDAR
