BEGIN:VCALENDAR
VERSION:2.0
PRODID:icalendar-ruby
CALSCALE:GREGORIAN
BEGIN:VEVENT
DTSTAMP:20260327T122616Z
UID:event-occurrence-800b481b-8014-4775-946b-53e58d1b6011-event-202f601c-77
 77-4dc1-a9a6-f8dca9209472@termine-e
DTSTART:20260429T130000
DTEND:20260429T000000
CLASS:PUBLIC
DESCRIPTION:30 Minuten Gebet\, geistlicher Impuls &amp\; OrgelmusikPastorin
  i.R. Ute Neveling-Wienkamp | Matthias Flierl\, Orgel
LOCATION:Marktkirche Hannover\, Hanns-Lilje-Platz 2\, 30159\, Hannover
SUMMARY:Ökumenisches Mittagsgebet
END:VEVENT
END:VCALENDAR
