BEGIN:VCALENDAR
VERSION:2.0
PRODID:icalendar-ruby
CALSCALE:GREGORIAN
BEGIN:VEVENT
DTSTAMP:20260314T145426Z
UID:event-occurrence-9997e451-02d0-4b9d-830e-0215ced95a0f-event-1f7243a4-47
 92-47e7-bfb2-5fbf75e922ac@termine-e
DTSTART:20260609T170000
DTEND:20260609T190000
CLASS:PUBLIC
DESCRIPTION:In dieser Einheit lernen die Konfis den Ablauf eines Gottesdien
 stes genauer kennen. Gemeinsam schauen wir uns an\, wie ein evangelischer 
 Gottesdienst aufgebaut ist und welche Bedeutung die einzelnen Teile der Li
 turgie haben. Dabei entdecken die Jugendlichen\, warum bestimmte Texte\, G
 ebete und Lieder immer wieder im Gottesdienst vorkommen und welche Rolle s
 ie für das gemeinsame Feiern des Glaubens spielen.
LOCATION:Gemeindehaus der ev.-luth. Kirche St. Marien\, Kirchstraße 4\, 29
 339\, Wathlingen
SUMMARY:KU04: Gottesdienst / Liturgie
END:VEVENT
END:VCALENDAR
