BEGIN:VCALENDAR
VERSION:2.0
PRODID:icalendar-ruby
CALSCALE:GREGORIAN
BEGIN:VEVENT
DTSTAMP:20260314T144454Z
UID:event-occurrence-b30828a5-3278-4068-9775-8d987eb472f9-event-1f327a86-90
 c0-4f1f-950e-89fafca24f6a@termine-e
DTSTART:20270406T170000
DTEND:20270406T180000
CLASS:PUBLIC
DESCRIPTION:In dieser Probe bereiten sich die Konfirmandinnen und Konfirman
 den gemeinsam auf ihren Konfirmationsgottesdienst vor. Der Ablauf der Konf
 irmation wird erklärt und Schritt für Schritt durchgegangen\, damit am g
 roßen Tag alles reibungslos abläuft.Nur für die Konfirmandinnen und Kon
 firmanden\, die am ersten Termin konfirmiert werden.Hinweis:Die angegebene
 n Uhrzeiten dienen zur Orientierung und können sich im Einzelfall noch ä
 ndern. Der genaue Treffpunkt sowie weitere organisatorische Informationen.
 ..
LOCATION:ev.-luth. Kirche St. Marien\, Kirchstraße 6\, 29339\, Wathlingen
SUMMARY:KUEXTRA: Probe für die Konfirmation I
END:VEVENT
END:VCALENDAR
