BEGIN:VCALENDAR
VERSION:2.0
PRODID:icalendar-ruby
CALSCALE:GREGORIAN
BEGIN:VEVENT
DTSTAMP:20260420T094308Z
UID:event-occurrence-7d4e94ec-4b80-478d-8588-99beb32b7dde-event-1e6046df-f2
 26-402e-9d54-0665b527fe1c@termine-e
DTSTART:20260815T100000
DTEND:20260815T000000
CLASS:PUBLIC
DESCRIPTION:mit Pastor Freytag und Team
LOCATION:Paulus-Kirchenzentrum\, Berliner Ring 17\, 31303\, Burgdorf
SUMMARY:Einschulungsgottesdienst der Gudrun-Pausewang-Schule im Paulus-Kirc
 henzentrum
END:VEVENT
END:VCALENDAR
