BEGIN:VCALENDAR
VERSION:2.0
PRODID:icalendar-ruby
CALSCALE:GREGORIAN
BEGIN:VEVENT
DTSTAMP:20260413T065827Z
UID:event-occurrence-6aaf898a-b0b1-45c5-ab82-6839a45b0af3-event-1d4c04c1-18
 08-425d-9eeb-9e85c57d3abd@termine-e
DTSTART:20260830T103000
DTEND:20260830T000000
CLASS:PUBLIC
DESCRIPTION:Pn. FröhlichMusik: Brödling
LOCATION:Paulus-Kirche\, Neersen 6\, 31812\, Bad Pyrmont
SUMMARY:Gottesdienst
END:VEVENT
END:VCALENDAR
