BEGIN:VCALENDAR
VERSION:2.0
PRODID:icalendar-ruby
CALSCALE:GREGORIAN
BEGIN:VEVENT
DTSTAMP:20260324T175555Z
UID:event-occurrence-f49b478f-b1fd-4ae5-99f0-2bcd06f4aa1c-event-1ca17a37-58
 6f-4382-822d-81cf74af04df@termine-e
DTSTART:20260510T110000
DTEND:20260510T000000
CLASS:PUBLIC
DESCRIPTION:mit Pastorin Julius und Diakonin Siemers
LOCATION:Ev.-luth. Kirche Horst\, Andreaestrasse 9\, 30826\, Garbsen / Hors
 t
SUMMARY:Konfirmation
END:VEVENT
END:VCALENDAR
