BEGIN:VCALENDAR
VERSION:2.0
PRODID:icalendar-ruby
CALSCALE:GREGORIAN
BEGIN:VEVENT
DTSTAMP:20260407T075908Z
UID:event-occurrence-0c47a457-b17c-4bc9-9976-268374d68c0b-event-1c574255-06
 a3-44e7-af5b-396f90fd9cc7@termine-e
DTSTART:20260426T100000
DTEND:20260426T000000
CLASS:PUBLIC
LOCATION:Kirche Brillit\, Alte Straße 1\, 27442\, Gnarrenburg
SUMMARY:Gottesdienst
END:VEVENT
END:VCALENDAR
