BEGIN:VCALENDAR
VERSION:2.0
PRODID:icalendar-ruby
CALSCALE:GREGORIAN
BEGIN:VEVENT
DTSTAMP:20260314T144001Z
UID:event-occurrence-12b5e68c-90bb-4a93-8526-38df16aab885-event-1bf3dd70-39
 9b-42ba-8ced-301891628f60@termine-e
DTSTART:20270302T170000
DTEND:20270302T190000
CLASS:PUBLIC
DESCRIPTION:In dieser Einheit schauen wir noch einmal auf die Themen der ve
 rgangenen Konfi-Zeit zurück. Die Konfis wiederholen wichtige Inhalte und 
 haben die Möglichkeit zu zeigen\, was sie im Laufe des Jahres gelernt und
  entdeckt haben. Dabei geht es vor allem darum\, das Wissen zu festigen un
 d sich gemeinsam auf die bevorstehende Konfirmation vorzubereiten.
LOCATION:Gemeindehaus der ev.-luth. Kirche St. Marien\, Kirchstraße 4\, 29
 339\, Wathlingen
SUMMARY:KU18: Stoffabfrage
END:VEVENT
END:VCALENDAR
