BEGIN:VCALENDAR
VERSION:2.0
PRODID:icalendar-ruby
CALSCALE:GREGORIAN
BEGIN:VEVENT
DTSTAMP:20260401T075659Z
UID:event-occurrence-b2a6035a-efb8-4ae6-9f6d-f2f78845ad26-event-1b11cb9b-6a
 b3-42b9-8e36-5c16ffcb57af@termine-e
DTSTART:20260426T180000
DTEND:20260426T000000
CLASS:PUBLIC
DESCRIPTION:Lieder zu Frauenliebe\, -list &amp\; -lust
LOCATION:Klosterkirche Fredelsloh\, Klosterhof 1\, 37186\, Fredelsloh
SUMMARY:Konzert Stefanie Hildebrandt
END:VEVENT
END:VCALENDAR
