BEGIN:VCALENDAR
VERSION:2.0
PRODID:icalendar-ruby
CALSCALE:GREGORIAN
BEGIN:VEVENT
DTSTAMP:20260412T193233Z
UID:event-occurrence-dca6dd43-a7b1-48c3-8b97-34e5e41adfdb-event-1a23388d-83
 b8-4c33-9cd6-c693c3723ac4@termine-e
DTSTART:20260607T090000
DTEND:20260607T000000
CLASS:PUBLIC
DESCRIPTION:Pn. WeidnerMusik: Brödling
LOCATION:Kapelle zum guten Hirten\, Eichenbrink\, 31812\, Bad Pyrmont
SUMMARY:Gottesdienst
END:VEVENT
END:VCALENDAR
