BEGIN:VCALENDAR
VERSION:2.0
PRODID:icalendar-ruby
CALSCALE:GREGORIAN
BEGIN:VEVENT
DTSTAMP:20260409T092910Z
UID:event-occurrence-db5ae3d7-ce25-45e2-a932-3d1c8ea80321-event-19e9b018-e6
 1d-4f91-b23a-82f3dcbd6c35@termine-e
DTSTART:20261105T110000
DTEND:20261105T123000
CLASS:PUBLIC
DESCRIPTION:In 90 Minuten per ZOOM informiert Sie Ebba Dralle (Referat 75 i
 m Landeskirchenamt) über das Siegelrecht in der Anwendung im Pfarramtsbü
 ro. Wer darf bzw. muss WANN WAS siegeln und was geht gar nicht!
LOCATION:
SUMMARY:Impulstreffen: Siegelrecht im Pfarramtsbüro
END:VEVENT
END:VCALENDAR
