BEGIN:VCALENDAR
VERSION:2.0
PRODID:icalendar-ruby
CALSCALE:GREGORIAN
BEGIN:VEVENT
DTSTAMP:20260414T131112Z
UID:event-occurrence-4afca3cf-dfb1-45c2-88a4-bf8e1ec6fe60-event-19cdfd86-65
 75-4347-8442-a46aed098044@termine-e
DTSTART:20260517T093000
DTEND:20260517T000000
CLASS:PUBLIC
DESCRIPTION:Gottesdienst mit Konfirmationen Pastor Volkmar Kamp und Diakon 
 Hendrik Bahrenburg
LOCATION:Ev.-luth. Klosterkirche\, Klosterstraße 14\, 28865\, Lilienthal
SUMMARY:Gottesdienst Klosterkirche Lilienthal
END:VEVENT
END:VCALENDAR
