BEGIN:VCALENDAR
VERSION:2.0
PRODID:icalendar-ruby
CALSCALE:GREGORIAN
BEGIN:VEVENT
DTSTAMP:20260417T081037Z
UID:event-occurrence-f310d477-fced-4c53-abc2-304563216bcd-event-1943e7f8-78
 44-471b-b3ec-b8c7d5cb0026@termine-e
DTSTART:20260705T100000
DTEND:20260705T110000
CLASS:PUBLIC
DESCRIPTION:Konfirmationsjahrgänge 1966\, 1961 und 1956Ablauf:- 09:45 Uhr 
 Treffen im Foyer des Gemeindehauses- 10:00 Uhr Gottesdienst mit Abendmahl\
 , anschließend Gruppenfoto (10\,00 €/Bild)\, Kirchenkaffee im Foyer- 12
 :30 Uhr gemeinsames Essen im Landgasthaus Gieseke-Asshorn\, selbstverstän
 dlich sind auch ihre Angehörigen eingeladen\, wir bitten lediglich um Anm
 eldung\, damit genügend Plätze im Gasthaus vorbereitet sindPersönliche 
 Einladungen per Brief sind aufgrund der Datenschutzrichtlinien nicht mehr 
 möglic...
LOCATION:St. Thomas\, Bremer Str. 70\, 49163\, Bohmte
SUMMARY:Diamanten-\, Eisern- und Gnaden-Konfirmation
END:VEVENT
END:VCALENDAR
