BEGIN:VCALENDAR
VERSION:2.0
PRODID:icalendar-ruby
CALSCALE:GREGORIAN
BEGIN:VEVENT
DTSTAMP:20260327T124302Z
UID:event-occurrence-8b949193-fd5c-4a07-8827-e2858f28979d-event-189cca98-fa
 b0-45ea-9737-6464bce52c33@termine-e
DTSTART:20260522T180000
DTEND:20260522T000000
CLASS:PUBLIC
DESCRIPTION:Pastorin Christine Schröder | Pastor Theodor Adam | Musik: LKM
 D Benjamin Dippel\, Michael Kählke &amp\; Team
LOCATION:Marktkirche Hannover\, Hanns-Lilje-Platz 2\, 30159\, Hannover
SUMMARY:Ökumenischer Gottesdienst am Vorabend des CSD
END:VEVENT
END:VCALENDAR
