BEGIN:VCALENDAR
VERSION:2.0
PRODID:icalendar-ruby
CALSCALE:GREGORIAN
BEGIN:VEVENT
DTSTAMP:20260412T192358Z
UID:event-occurrence-b06a7f99-3baa-4c58-8813-c86bfa4cd7da-event-1809210c-76
 c8-4530-b039-4ea0ccd6be67@termine-e
DTSTART:20260712T103000
DTEND:20260712T000000
CLASS:PUBLIC
DESCRIPTION:Pn. FröhlichMusik: Posaunenchor Elbrinxen
LOCATION:Alte Emmerbrücke Löwensen\, Im Unterdorf\, 31812\, Bad Pyrmont
SUMMARY:Gottesdienst I Sommerkirche
END:VEVENT
END:VCALENDAR
