BEGIN:VCALENDAR
VERSION:2.0
PRODID:icalendar-ruby
CALSCALE:GREGORIAN
BEGIN:VEVENT
DTSTAMP:20260416T105446Z
UID:event-occurrence-0a50c541-b2cb-4669-92c6-c3325a2954c2-event-16c01aab-5e
 46-4382-a419-9b8168a23310@termine-e
DTSTART:20260508T190000
DTEND:20260508T000000
CLASS:PUBLIC
DESCRIPTION:Leitung: Christine Stegner-AnlaufOrt: Paul-Gerhardt-Gemeinde\, 
 Hardinghausstr. 39a
LOCATION:Paul-Gerhardt-Kirche\, Hardinghausstr. 39\, 49090\, Osnabrück
SUMMARY:Meditation am Freitagabend
END:VEVENT
END:VCALENDAR
