BEGIN:VCALENDAR
VERSION:2.0
PRODID:icalendar-ruby
CALSCALE:GREGORIAN
BEGIN:VEVENT
DTSTAMP:20260324T220318Z
UID:event-occurrence-3e0d6079-f525-48d8-98c8-4718f111ce0e-event-1608bbea-eb
 c7-446a-9220-218dadb1f091@termine-e
DTSTART:20260514T100000
DTEND:20260514T000000
CLASS:PUBLIC
DESCRIPTION:P. Görnandt mit Posaunenchor
LOCATION:Schafstallviertel Hülsen\, Schützenweg 14\, 27313\, Dörverden-H
 ülsen
SUMMARY:Christi Himmelfahrt in Hülsen
END:VEVENT
END:VCALENDAR
