BEGIN:VCALENDAR
VERSION:2.0
PRODID:icalendar-ruby
CALSCALE:GREGORIAN
BEGIN:VEVENT
DTSTAMP:20241119T191234Z
UID:event-occurrence-9fec566c-0eae-429f-87e8-30f7bed7bbf5-event-15c52486-b8
 d3-4db6-8852-6d090deca54f@termine-e
DTSTART:20250614T140000
DTEND:20250614T000000
CLASS:PUBLIC
LOCATION:Strandbad am Maschsee\, Rudolf-von-Bennigsen-Ufer 83a\, 30519\, Ha
 nnover
SUMMARY:Tauffest im Maschsee
END:VEVENT
END:VCALENDAR
