BEGIN:VCALENDAR
VERSION:2.0
PRODID:icalendar-ruby
CALSCALE:GREGORIAN
BEGIN:VEVENT
DTSTAMP:20260401T094343Z
UID:event-occurrence-07508e0a-b799-41a1-95dc-532a0df020bf-event-147c0e5f-54
 a9-440e-9f79-cae1d56f884e@termine-e
DTSTART:20260705T120000
DTEND:20260705T000000
CLASS:PUBLIC
DESCRIPTION:30 Minuten Musik an der großen Goll-OrgelTelemann | Vierne | D
 upré
LOCATION:Marktkirche Hannover\, Hanns-Lilje-Platz 2\, 30159\, Hannover
SUMMARY:Orgelmatinee: Magdalena Andrulewicz (Laatzen)
END:VEVENT
END:VCALENDAR
