BEGIN:VCALENDAR
VERSION:2.0
PRODID:icalendar-ruby
CALSCALE:GREGORIAN
BEGIN:VEVENT
DTSTAMP:20260312T152759Z
UID:event-occurrence-627b7f0c-fc3f-4b01-9940-94425db8a90f-event-1464e06f-55
 d6-4c45-bed5-5fb26cb69d38@termine-e
DTSTART:20260906T100000
DTEND:20260906T000000
CLASS:PUBLIC
DESCRIPTION:P. Hellmich
LOCATION:St. Primus-Kirche\, An der Kirche\, 21698\, Bargstedt
SUMMARY:Gottesdienst mit Abendmahl (Saft)
END:VEVENT
END:VCALENDAR
