BEGIN:VCALENDAR
VERSION:2.0
PRODID:icalendar-ruby
CALSCALE:GREGORIAN
BEGIN:VEVENT
DTSTAMP:20260420T102653Z
UID:event-occurrence-a2efdcf8-73b2-4b5e-baae-067d7a6dafa5-event-145eb4b8-42
 f6-468b-875d-f691622eb3f9@termine-e
DTSTART:20260424T180000
DTEND:20260424T000000
CLASS:PUBLIC
LOCATION:St. Katharinen\, An der Katharinenkirche 8\, 49074\, Osnabrück
SUMMARY:Gottesdienst zum Feierabend\, Pastorin Dr. Laura Schimmelpfennig\, 
 Holger Dolkemeyer (Orgel)
END:VEVENT
END:VCALENDAR
