BEGIN:VCALENDAR
VERSION:2.0
PRODID:icalendar-ruby
CALSCALE:GREGORIAN
BEGIN:VEVENT
DTSTAMP:20260407T100459Z
UID:event-occurrence-6a3002e0-4b3c-42b2-9ef7-33df6ad3ff9d-event-13a606df-3f
 39-4e13-a5d4-8553a49c5569@termine-e
DTSTART:20260614T100000
DTEND:20260614T000000
CLASS:PUBLIC
DESCRIPTION:2. Sonntag nach TrinitatisLiturg. Gestaltung: Pastor Thiem
LOCATION:St. Georgkirche Eggelingen\, Kirchlandweg\, 26409\, Wittmund
SUMMARY:Gottesdienst in Eggelingen
END:VEVENT
END:VCALENDAR
