BEGIN:VCALENDAR
VERSION:2.0
PRODID:icalendar-ruby
CALSCALE:GREGORIAN
BEGIN:VEVENT
DTSTAMP:20260313T164051Z
UID:event-occurrence-44cdac74-e431-4cc2-a744-b9ec721fc265-event-127621f5-24
 bb-4099-9865-8f2bd177bd89@termine-e
DTSTART:20260525T100000
DTEND:20260525T000000
CLASS:PUBLIC
DESCRIPTION:Taufen einmal anders im Schulwald Lauenbrück an der Wümme - d
 urchgeführt von Pastor Lars Rüter\, Pastorin Heike Mühlbacher und Pasto
 r Jens Ubben.
LOCATION:Schulwald Lauenbrück
SUMMARY:Regionales Tauffest
END:VEVENT
END:VCALENDAR
