BEGIN:VCALENDAR
VERSION:2.0
PRODID:icalendar-ruby
CALSCALE:GREGORIAN
BEGIN:VEVENT
DTSTAMP:20260401T091054Z
UID:event-occurrence-92fc592c-5b68-41f1-84fb-ff2b6ae76ed0-event-126e97d9-6b
 0d-4081-b66f-fc5bad79cdfd@termine-e
DTSTART:20260501T110000
DTEND:20260501T000000
CLASS:PUBLIC
DESCRIPTION:mit Kreiskantor Christian Müller
LOCATION:St. Severi Otterndorf\, Am Kirchplatz 2\, 21762\, Otterndorf
SUMMARY:Frühlingsmatinee zur Eröffnung der musikalischen Andachten zur Ma
 rktzeit in Otterndorf
END:VEVENT
END:VCALENDAR
