BEGIN:VCALENDAR
VERSION:2.0
PRODID:icalendar-ruby
CALSCALE:GREGORIAN
BEGIN:VEVENT
DTSTAMP:20260309T092758Z
UID:event-occurrence-d56b21fa-3bc5-401e-83a3-b8381f71ad78-event-12604c88-db
 85-4720-9f77-e373592d99cf@termine-e
DTSTART:20260404T230000
DTEND:20260404T000000
CLASS:PUBLIC
LOCATION:St. Ansgari Kirche Hage\, 26524\, Hage
SUMMARY:Gottesdienst Osternacht mit Pastor Weßler
END:VEVENT
END:VCALENDAR
