BEGIN:VCALENDAR
VERSION:2.0
PRODID:icalendar-ruby
CALSCALE:GREGORIAN
BEGIN:VEVENT
DTSTAMP:20260327T100909Z
UID:event-occurrence-ecbac390-99ab-41cb-801e-a0139bfe6e57-event-111061b1-21
 55-4b24-a5f3-4bdf1205156d@termine-e
DTSTART:20260510T100000
DTEND:20260510T000000
CLASS:PUBLIC
DESCRIPTION:Pastor Marc Blessing | Matthias Flierl\, Orgel | Peter Schöne\
 , Bariton
LOCATION:Marktkirche Hannover\, Hanns-Lilje-Platz 2\, 30159\, Hannover
SUMMARY:Gottesdienst: Rogate
END:VEVENT
END:VCALENDAR
