BEGIN:VCALENDAR
VERSION:2.0
PRODID:icalendar-ruby
CALSCALE:GREGORIAN
BEGIN:VEVENT
DTSTAMP:20260314T143414Z
UID:event-occurrence-ea05edd8-d587-4f25-b32b-cefc024e7396-event-1040e260-bb
 11-4295-bab4-641063142c13@termine-e
DTSTART:20260630T190000
DTEND:20260630T200000
CLASS:PUBLIC
DESCRIPTION:An diesem Abend sind die Eltern der Konfirmandinnen und Konfirm
 anden zu einem Informationsabend zur Konfifahrt eingeladen. Dabei werden d
 as Programm\, organisatorische Abläufe\, wichtige Regeln sowie alle prakt
 ischen Fragen rund um die Fahrt vorgestellt. Außerdem gibt es Gelegenheit
 \, offene Fragen zu klären und miteinander ins Gespräch zu kommen.
LOCATION:Gemeindehaus der ev.-luth. Kirche St. Marien\, Kirchstraße 4\, 29
 339\, Wathlingen
SUMMARY:KUEXTRA: Elternabend Konfifahrt
END:VEVENT
END:VCALENDAR
