BEGIN:VCALENDAR
VERSION:2.0
PRODID:icalendar-ruby
CALSCALE:GREGORIAN
BEGIN:VEVENT
DTSTAMP:20260327T123127Z
UID:event-occurrence-c0c74302-b0c5-4fa2-b05d-87d278348e17-event-102e480a-02
 8c-422a-9c2c-ca9cc85467fe@termine-e
DTSTART:20260517T100000
DTEND:20260517T000000
CLASS:PUBLIC
DESCRIPTION:Pastorin Judith Uhrmeister | Matthias Flierl\, Orgel
LOCATION:Marktkirche Hannover\, Hanns-Lilje-Platz 2\, 30159\, Hannover
SUMMARY:Gottesdienst: Exaudi
END:VEVENT
END:VCALENDAR
