BEGIN:VCALENDAR
VERSION:2.0
PRODID:icalendar-ruby
CALSCALE:GREGORIAN
BEGIN:VEVENT
DTSTAMP:20260416T104841Z
UID:event-occurrence-711e0830-2b68-40f6-a869-cbca94fbcfed-event-0fc058e8-1f
 f4-49b5-b080-be45cb4f5011@termine-e
DTSTART:20260426T100000
DTEND:20260426T000000
CLASS:PUBLIC
DESCRIPTION:Pastorin Sabine Badorrek
LOCATION:Groden St. Abundus\, Grodener Kirche 4\, 27472\, Cuxhaven
SUMMARY:Gottesdienst zur Konfirmation
END:VEVENT
END:VCALENDAR
