BEGIN:VCALENDAR
VERSION:2.0
PRODID:icalendar-ruby
CALSCALE:GREGORIAN
BEGIN:VEVENT
DTSTAMP:20260422T075900Z
UID:event-occurrence-6f0322e4-4e0b-4890-b7f8-55454b5877e9-event-0f961cc5-13
 35-4780-b000-40ed6983b1a4@termine-e
DTSTART:20260926T100000
DTEND:20260926T160000
CLASS:PUBLIC
DESCRIPTION:Gut vorbereitet\, motiviert unterwegs\, kompetent im Gespräch 
 und mit Freude bei den Menschen. In unserer Fortbildung zeigen wir Hilfen 
 für die Praxis auf und machen Mut\, in ein gutes Gespräch zu kommen. Sie
  bekommen Informationen und Anregungen\, erleben die Arbeit an Fallbesprec
 hungen und profitieren von dem Austausch in einer Gruppe.
LOCATION:Hanns-Lilje-Haus\, Knochenhauerstraße 33\, 30159\, Hannover
SUMMARY:Besuche machen
END:VEVENT
END:VCALENDAR
