BEGIN:VCALENDAR
VERSION:2.0
PRODID:icalendar-ruby
CALSCALE:GREGORIAN
BEGIN:VEVENT
DTSTAMP:20260423T102208Z
UID:event-occurrence-cc49e82f-2990-4f13-a240-68b0e7291826-event-0f3fe4a2-ad
 ca-4599-84ab-64633a4fa27e@termine-e
DTSTART:20260510T100000
DTEND:20260510T000000
CLASS:PUBLIC
DESCRIPTION:Am 5. Sonntag nach Ostern\, Rogate\, feiern wir um 10:00 Uhr de
 n Gottesdienst mit Abendmahl.Leitung: Pastorin Inken Richter-Rethwisch.Die
  Kollekte ist bestimmt für die Aktion Auf einen guten Start kommt es an -
  Betroffene Menschen beteiligen und fördern.Der Name des Sonntags Rogate 
 rührt von den Bittumgängen her\, die in vergangener Zeit (und manchenort
 s noch heute) auf den Feldern für eine gute Ernte vollzogen wurden. Diese
  Bittumgänge begannen am Sonntag Rogate (= Bittet! oder Betet!) und wurd.
 ..
LOCATION:Ev.-luth. Dietrich-Bonhoeffer-Kirche\, Roderbruchmarkt 18\, 30627\
 , Hannover
SUMMARY:Gottesdienst\, 5. Sonntag nach Ostern\, Rogate\, mit Abendmahl
END:VEVENT
END:VCALENDAR
