BEGIN:VCALENDAR
VERSION:2.0
PRODID:icalendar-ruby
CALSCALE:GREGORIAN
BEGIN:VEVENT
DTSTAMP:20260409T095610Z
UID:event-occurrence-18c81cd4-a805-4136-b034-459d77439725-event-0d39cb3b-bc
 03-4df3-bf4d-4c89f60bd192@termine-e
DTSTART:20261006T100000
DTEND:20261006T163000
CLASS:PUBLIC
DESCRIPTION:Effektiv die richtigen Prioritäten setzen und den Überblick 
 über die Fülle der Aufgaben behalten. Claudia Generotzky stellt Ihnen pr
 aktische Methoden zur Organisation von Arbeitsabläufen vor und entwickelt
  mit Ihnen gemeinsam passende Strategien für Ihren Arbeitsalltag!
LOCATION:Evangelische Agentur der Evangelisch-lutherischen Landeskirche Han
 novers\, Archivstraße 3\, 30169\, Hannover
SUMMARY:Arbeitsorganisation im Pfarramtsbüro
END:VEVENT
END:VCALENDAR
