BEGIN:VCALENDAR
VERSION:2.0
PRODID:icalendar-ruby
CALSCALE:GREGORIAN
BEGIN:VEVENT
DTSTAMP:20260329T141334Z
UID:event-occurrence-c842e31b-3d68-4e2b-9c66-c7850f262dc9-event-0cfadd68-61
 36-405d-875a-0ac2501e651d@termine-e
DTSTART:20260425T083000
DTEND:20260425T103000
CLASS:PUBLIC
DESCRIPTION:Am 25.04.2026 von 8.30 bis 10.30 Uhr wartet im Gemeindehaus (Am
  Kirchhofe 4d) ein großes Frühstücksbuffet auf hungrige Gäste.Um Anmel
 dung wird gebeten: Gemeindebüro\, Tel. 05109 519547\, E-Mail kg.ronnenber
 g@evlka.de\; oder Doris Peckmann\, Tel. 05109 9292
LOCATION:Gemeindehaus der Michaelisgemeinde\, Am Kirchhofe 4D\, 30952\, Ron
 nenberg
SUMMARY:Michaelisfrühstück
END:VEVENT
END:VCALENDAR
