BEGIN:VCALENDAR
VERSION:2.0
PRODID:icalendar-ruby
CALSCALE:GREGORIAN
BEGIN:VEVENT
DTSTAMP:20260420T084722Z
UID:event-occurrence-dbefb868-e3bd-4d6b-990a-2a8361033455-event-0c5580d8-83
 8e-43d1-b462-fe40a9f8e6d8@termine-e
DTSTART:20260426T110000
DTEND:20260426T000000
CLASS:PUBLIC
DESCRIPTION:Mit Pastorin Lara Schilde
LOCATION:Johannes-der-Täufer-Kirche Bexhövede\, Am Bekeshoop 2\, 27612\, 
 Bexhövede
SUMMARY:Konfirmation in Bexhövede
END:VEVENT
END:VCALENDAR
